BEGIN:VCALENDAR
VERSION:2.0
PRODID:-//Komunitas Programmer Semarang - ECPv6.14.0//NONSGML v1.0//EN
CALSCALE:GREGORIAN
METHOD:PUBLISH
X-ORIGINAL-URL:https://programmer-semarang.com
X-WR-CALDESC:Events for Komunitas Programmer Semarang
REFRESH-INTERVAL;VALUE=DURATION:PT1H
X-Robots-Tag:noindex
X-PUBLISHED-TTL:PT1H
BEGIN:VTIMEZONE
TZID:Asia/Krasnoyarsk
BEGIN:STANDARD
TZOFFSETFROM:+0700
TZOFFSETTO:+0700
TZNAME:+07
DTSTART:20220101T000000
END:STANDARD
END:VTIMEZONE
BEGIN:VEVENT
DTSTART;TZID=Asia/Krasnoyarsk:20220716T130000
DTEND;TZID=Asia/Krasnoyarsk:20220716T170000
DTSTAMP:20260424T145758
CREATED:20220706T043446Z
LAST-MODIFIED:20220710T032153Z
UID:602-1657976400-1657990800@programmer-semarang.com
SUMMARY:Sharing Experience About Wordpress
DESCRIPTION:Halo devs\, sebelumnya kami ucapkan Terimakasih untuk kalian semua yang sudah berkontribusi dalam kopdar Free Talk & Discussion. Untuk bulan ini kami akan mengadakan kopdar Sharing Experience About WordPress\, untuk kopdar bulan ini kita hanya akan diskusi ringan tentang wordpress dan berbagi pengalaman dalam menggunakan wordpress untuk mencari nafkah 😀 \nMeetupnya kapan kak? \nHari / Tanggal: Sabtu\, 16 Juli 2022\nJam: 13:00 – 17:00\nTempat: Gedung Pusat Informasi Publik Kota Semarang \n  \nNote: Waktu & Tempat bisa berubah sewaktu – waktu\, untuk update informasi meetup kamu bisa join ke group telegram Programmer Semarang
URL:https://programmer-semarang.com/event/sharing-experience-about-wordpress/
LOCATION:Gedung Pusat Informasi Publik Kota Semarang\, Jalan Pemuda No.143\, Sekayu\, Semarang Tengah\, Sekayu\, Semarang\, Kota Semarang\, Jawa Tengah 50132\, Semarang\, Jawa Tengah\, 50132\, Indonesia
CATEGORIES:Kopdar
ATTACH;FMTTYPE=image/jpeg:https://programmer-semarang.com/wp-content/uploads/2022/07/photo_2022-07-06_11-34-10.jpg
END:VEVENT
END:VCALENDAR