BEGIN:VCALENDAR
VERSION:2.0
PRODID:-//Komunitas Programmer Semarang - ECPv6.14.0//NONSGML v1.0//EN
CALSCALE:GREGORIAN
METHOD:PUBLISH
X-WR-CALNAME:Komunitas Programmer Semarang
X-ORIGINAL-URL:https://programmer-semarang.com
X-WR-CALDESC:Events for Komunitas Programmer Semarang
REFRESH-INTERVAL;VALUE=DURATION:PT1H
X-Robots-Tag:noindex
X-PUBLISHED-TTL:PT1H
BEGIN:VTIMEZONE
TZID:Asia/Krasnoyarsk
BEGIN:STANDARD
TZOFFSETFROM:+0700
TZOFFSETTO:+0700
TZNAME:+07
DTSTART:20250101T000000
END:STANDARD
END:VTIMEZONE
BEGIN:VEVENT
DTSTART;TZID=Asia/Krasnoyarsk:20250621T130000
DTEND;TZID=Asia/Krasnoyarsk:20250621T170000
DTSTAMP:20260422T010600
CREATED:20250528T023649Z
LAST-MODIFIED:20250621T060138Z
UID:771-1750510800-1750525200@programmer-semarang.com
SUMMARY:TechTalk by Qiscus x Programmer Semarang : Vibe Coding - How AI Agents Turn Ideas Into Efficient Code
DESCRIPTION:Transformasi Ide Menjadi Kode Tanpa Drama — Bersama AI \nIngin tahu bagaimana ide sederhana bisa disulap menjadi kode efisien hanya dengan bantuan AI?Di event Vibe Coding\, kita akan mengupas tuntas bagaimana AI agents seperti GPT\, Copilot\, dan tools canggih lainnya bekerja secara kolaboratif untuk mempercepat proses coding — dari riset\, perencanaan\, penulisan kode\, hingga debugging otomatis. \n🌟 Apa yang akan kamu pelajari? \n\nApa itu AI agents dan bagaimana mereka bekerja di balik layar\nStudi kasus: Dari prompt ke prototype\nWorkflow coding modern yang terotomatisasi\nTools & strategi untuk developer yang ingin produktif tanpa stres\nQ&A interaktif dan live demo pembuatan kode real-time\n\n📅 Tanggal: Sabtu\, 21 Juni 2025📍 Tempat: Offline – Hetero Space Semarang⏰ Waktu: 13.00 – 17.30 WIB🎯 Untuk siapa? \n\nDeveloper semua level\nTech enthusiast & startup founder\nMahasiswa IT yang ingin jadi lebih siap industri\nSiapa pun yang ingin membangun lebih cepat\, cerdas\, dan efisien\n\nAgenda Acara: \n\n🎉 Registrasi & Ice Breaking\n🚀 Sambutan Pembukaan\n🎙️ Paparan Narasumber\n🧠 Diskusi Teknis dan Tanya Jawab\n🗣️ Sharing Session oleh Peserta\n🧑‍💼 Quick Hiring by Qiscus\n\nMari bergabung dan bersama-sama membangun ekosistem teknologi yang lebih maju di Semarang. Jangan lewatkan kesempatan untuk mendapatkan wawasan baru\, memperluas relasi\, dan menjadi bagian dari komunitas hebat ini! \nSampai ketemu dilokasi yaa gaessss 😉\nSalam hangat\,\nPanitia programmer Semarang & Qiscus
URL:https://programmer-semarang.com/event/vibe-coding-how-ai-agents-turn-ideas-into-efficient-code/
LOCATION:Hetero Space Semarang\, UMKM Center\, Jl. Setia Budi No.192\, Srondol Wetan\, Kec. Banyumanik\, Kota Semarang\, Jawa Tengah 50263\, Semarang\, Jawa Tengah\, 50263\, Indonesia
ATTACH;FMTTYPE=image/jpeg:https://programmer-semarang.com/wp-content/uploads/2025/05/vibe-coding-event-2025.jpeg
END:VEVENT
END:VCALENDAR