BEGIN:VCALENDAR
VERSION:2.0
PRODID:-//Komunitas Programmer Semarang - ECPv6.14.0//NONSGML v1.0//EN
CALSCALE:GREGORIAN
METHOD:PUBLISH
X-ORIGINAL-URL:https://programmer-semarang.com
X-WR-CALDESC:Events for Komunitas Programmer Semarang
REFRESH-INTERVAL;VALUE=DURATION:PT1H
X-Robots-Tag:noindex
X-PUBLISHED-TTL:PT1H
BEGIN:VTIMEZONE
TZID:Asia/Krasnoyarsk
BEGIN:STANDARD
TZOFFSETFROM:+0700
TZOFFSETTO:+0700
TZNAME:+07
DTSTART:20180101T000000
END:STANDARD
END:VTIMEZONE
BEGIN:VTIMEZONE
TZID:UTC
BEGIN:STANDARD
TZOFFSETFROM:+0000
TZOFFSETTO:+0000
TZNAME:UTC
DTSTART:20180101T000000
END:STANDARD
END:VTIMEZONE
BEGIN:VEVENT
DTSTART;TZID=Asia/Krasnoyarsk:20181020T130000
DTEND;TZID=Asia/Krasnoyarsk:20181020T170000
DTSTAMP:20260421T213716
CREATED:20181015T131451Z
LAST-MODIFIED:20181019T074745Z
UID:372-1540040400-1540054800@programmer-semarang.com
SUMMARY:Laravel Full Day #2
DESCRIPTION:Halo teman – teman\, apa kabar nih? Alhamdulillah kopdar kemarin sudah terlaksana dengan lancar semua materi basic sudah di sampaikan oleh mas dayat. Sesuai dengan rencana komunitas programmer semarang akan mengadakan kopdar ber-episode\, jadi untuk next kopdar materi laravelnya akan naik level ketingkat intermediate. Berikut adalah materi – materi yang akan di sampaikan besok saat kopdar. \n\nCread\, Read\, Update\, Delete\, Search (CRUDS)\nValidasi Form\n\nRegistrations telah ditutup  \n  \nCurrently Registeredmohammad saifoelloh noor Husin Sufi nandi wardhana Yumnanda Abid Saputra Iqbal Kurniawan Yahya Wildan Wiratama Adi Wibawa Simeon Bensona Yunita Kurniawati Ardiansyah Kamal Zehan Baihaqi Tegar Yudha Okta Arif Cahyawan Muhammad Dimas Saputro Bayu Grafit Nur Alfian
URL:https://programmer-semarang.com/event/laravelday2/
LOCATION:SDK (Semarang Digital Kreatif)\, Jalan Mpu Tantular No. 2\, Bandarharjo\, Semarang Utara\, Semarang\, Jawa Tengah\, 50175\, Indonesia
CATEGORIES:Kopdar
ATTACH;FMTTYPE=image/jpeg:https://programmer-semarang.com/wp-content/uploads/2018/10/photo_2018-10-15_19-53-23.jpg
END:VEVENT
BEGIN:VEVENT
DTSTART;TZID=Asia/Krasnoyarsk:20181013T130000
DTEND;TZID=Asia/Krasnoyarsk:20181013T170000
DTSTAMP:20260421T213716
CREATED:20181001T135439Z
LAST-MODIFIED:20181015T125157Z
UID:364-1539435600-1539450000@programmer-semarang.com
SUMMARY:Laravel Full Day
DESCRIPTION:Halo teman – teman\, apa kabar nih? semoga sehat semua ya\, biar bisa koding terus hahaha. Dari hasil survey kemarin di Group Facebook Programmer Semarang Bulan oktober ini kami dari Komunitas Programmer Semarang akan menyelenggarakan kopdar ber-episode tentang Framework Laravel. Tujuannya apa? biar kita bisa menguasai sampai full gak setengah – setengah. Karena ada pepatah bilang\, Mending kuasai 1 ilmu tapi full\, dari pada banyak ilmu tapi setengah setengah. Berikut adalah materi – materi yang akan di sampaikan besok saat kopdar. \nBasic \n\nInstalasi Laravel\nStruktur Folder Laravel\nBasic Workflow Laravel\nRoute – View\nRoute – Controller – View\nBlade Templatig\nRoute – Controller – Model – Controller – View\nThe Auth Scaffold in Laravel\n\nIntermediate \n\nCrud\nValidasi\nRelasi\nLazy Loading & Eager Loading\nMiddleware\n\n  \nCurrently RegisteredMukhammad Fakhir Rizal Joko Widodo Martin Eko setiawan Cipto Setiono Simeon Bensona Luqman Setyo Anita Kusumasari Ardiansyah Kamal Alkaff Adwin Sunarko Zagasi Bagas Gaotama Alfiani Damar Sri Tenang Mufid Ardianto Zakky Taufiqurrohman Yahya Wildan Iqbal Kurnaiwan Bayu Grafit Nur Alfian Baihaqi Luhur Pangestka Okta Arif Cahyawan Eka Wahyu Budi Santoso Nur rohman Muhammad Ilham Haqqi Yunita Kurniawati Suparno - Irfan Bintang Aji fatah muslim - Soleh Udin Habib Maulana Yusuf Kurniawan Nur Amin Nudin Carissa Adila Maheswari Sania Nastasya Viora Adin Comara Zulfar Farruq Muhammad Dimas Saputro Ahmad Yusuf Amrin Amanu Aravika Prakusiya fatkhul jabal ahmad rizal mohammad saifoelloh noor
URL:https://programmer-semarang.com/event/laravelday1/
LOCATION:SDK (Semarang Digital Kreatif)\, Jalan Mpu Tantular No. 2\, Bandarharjo\, Semarang Utara\, Semarang\, Jawa Tengah\, 50175\, Indonesia
CATEGORIES:Kopdar
ATTACH;FMTTYPE=image/jpeg:https://programmer-semarang.com/wp-content/uploads/2018/10/43143960_2130025733682968_2295605198749433856_n.jpg
END:VEVENT
BEGIN:VEVENT
DTSTART;TZID=UTC:20180826T110000
DTEND;TZID=UTC:20180826T170000
DTSTAMP:20260421T213716
CREATED:20180820T021656Z
LAST-MODIFIED:20180825T021704Z
UID:279-1535281200-1535302800@programmer-semarang.com
SUMMARY:Benchmarking Debian\, Centos dan FreeBSD
DESCRIPTION:Hello gaes… Sebelumnya terimakasih atas kontribusinya dalam Event Fullstack BiZnetNeo bulan lalu alhamdulillah rame meski harus dipangkas kuota karena terbatas tempat sehingga belum mampu mengkover semua temen temen yang berkeinginan untuk ikutan dan musti lewat seleksi. \nSehubungan dengan Hal tersebut insyaallah akhir bulan ini Kami sebagai Pengurus Programmer Semarang\, WordPress Semarang dan Semarang Open Go akan mengadakan event yang setipe (masih berhubungan dengan Server) dengan kapasitas lebih besar (sekira 70-80 peserta) ~ Tema Besar yang akan kami angkat berkaitan dengan OS yang sering Kita pakai untuk development/produksi aplikasi/website serta Optimasinya. \nBerdasarkan dari hasil Pooling maka yang akan kami angkat untuk dibahas adalah OS Debian\, OS Centos\, FreeBsd. Dalam Event ini kami akan mencoba ketiga OS tersebut secara bersamaan (secara pararel) dan menginstall beberapa aplikasi untuk kemudian kami bahas manakah OS yang paling cocok dan sesuai dengan kebutuhan para Website dan Aplikasi Developer. \nNaraSumber :\n\n		\n			\n				\n			\n			\n		  \n		\n			 Shodiqul Muzaki Remote Worker di Michigan Real Estate Institute sebagai SysAdmin. Menggeluti dunia OpenSource sejak 2013 serta mendalami NodeJs dan ReactNative sebagai bahasa pemrograman utama yang dipergunakan dalam pembuatan Aplikasi Berbasis Web dan Mobile .\n		 \n			 \n		 \n\n		\n			\n				\n			\n			\n		  \n		\n			 Andi Hidayat CEO of FSI System | PT. Fribeesde Semesta Indonesia\, FreeBSD lovers.. An OpenSource Lovers too.. I like wiring\, cabling & building servers system withFreeBSD for DNS\, Email\, Cacti\, Racktables\, OpenFire & Many More \n		 \n			 \n		 \n\n		\n			\n				\n			\n			\n		  \n		\n			Aan Rofik Blogger\, internet marketer\, dan WordPress enthusiast.Hobby Ngoprek Hosting \, Moto — Dream\, Pray\, Action.\n		 \n			 \n		 \n  \nCurrently RegisteredM Khoirul Huda Agung Prabowo Noviyanto Ian kartika yona Elkana Kristiyono Zohan Aris Pribadi Muhammad Fahrurrozi Arif Bachtiar Yahya Fiqry Ananta Hamdan Hibatullah Dikky Ryan Faiz Hasan Wahyu Aji Sulaiman Luqman Setyo Nugroho Syaifuddin Zuhry Ahmad Syarifuddin Latif Nova Setu Ira Iryanti Arif Murdianto Ashokani Ashz joko rifki amrulloh Heru Utomo Hernowo Prihantoro ignatius n julis pitangso Novan Dwi Anggarda Adhi Setiawan Taufik Kristianto Shodiqul Muzaki Aan Rofik Abda Rafi Hamaminata cristeddy asa Kang Artha wira yudha adiputra Salamuddin Pranayan Pendi Madyana Fiqry Ananta Asna Widya Prayogo Wigunanto Guntur Dwi Cahyono NANDHI NUR A. Sayyid Yofa khoirur rozikin Achmad Hidayat Aam Amrullah erman junaidi Ibnu Halim Mustofa Arifah Suparni Desty Dwiyanasari Mukhlish Abdul Aziz Anita Kirmawanti Syamsul Arifin Fadli Wilihandarwo ali waqidiyanto Aminnudin .  \n\nSponsored by :\n \n  \n 
URL:https://programmer-semarang.com/event/benchmarking-debian-centos-dan-freebsd/
LOCATION:Dinas Kepemudaan Olahraga dan Pariwisata\, Jl. Ki Mangunsarkoro No.12\, Karangkidul\, Semarang Tengah\, Semarang\, Jawa Tengah\, 50241\, Indonesia
ATTACH;FMTTYPE=image/jpeg:https://programmer-semarang.com/wp-content/uploads/2018/08/benchmarking-pamflet.jpeg
END:VEVENT
BEGIN:VEVENT
DTSTART;TZID=Asia/Krasnoyarsk:20180728T100000
DTEND;TZID=Asia/Krasnoyarsk:20180728T150000
DTSTAMP:20260421T213716
CREATED:20180714T050606Z
LAST-MODIFIED:20180821T050951Z
UID:337-1532772000-1532790000@programmer-semarang.com
SUMMARY:OpenStack - The Path of Cloud
DESCRIPTION:Pernah dengar istilah tentang cloud computing? Tapi masih bingung bagaimana cara penerapan dan cara kerjanya? Kalian bisa memahami hal-hal tersebut dalam #KelasNEO yang akan segera digelar di Semarang. Berikut waktu dan tempat: \nHotel GranDhika Pemuda\, Semarang\nSabtu\, 28 Juli 2018\n10.00 – 13.00 WIB. \n\nLink Pendaftaran:\nhttps://bit.ly/2NTMcW7 \nFasilitas Workshop:\nLUNCH dan MERCHANDISE
URL:https://programmer-semarang.com/event/openstack-the-path-of-cloud/
LOCATION:Jawa Tengah
ATTACH;FMTTYPE=image/jpeg:https://programmer-semarang.com/wp-content/uploads/2018/08/37216417_2013759625309580_4577173778655608832_n.jpg
END:VEVENT
BEGIN:VEVENT
DTSTART;TZID=UTC:20180428T160000
DTEND;TZID=UTC:20180428T200000
DTSTAMP:20260421T213716
CREATED:20180424T185823Z
LAST-MODIFIED:20180426T225859Z
UID:245-1524931200-1524945600@programmer-semarang.com
SUMMARY:20th Meetup : ReactJS Basic
DESCRIPTION:React JS adalah sebuah library javascript yang bersifat opensource untuk membangun User Interface yang dibuat oleh Facebook. React JS hanya mengurusi semua hal yang berkaitan dengan tampilan dan logika di sekitarnya. Mau tau lebih lanjut tentang ReactJS? yuuuk kopdar!!! \nHari / Tanggal : Sabtu \, 28 April 2018\nJam : 16.00 – 20.00 WIB\nTempat : SDK (Semarang Digital Kreatif) Lantai 1\, Jalan Mpu Tantular Semarang\n\n		\n			\n				\n			\n			\n		  \n		\n			Pemateri : Mirza Chilman Garin (Facebook Lead Devc Semarang)\, Trainer Facebook Developer Indonesia yang aktif memberikan pelatihan-pelatihan MasterClass Facebook sekaligus juga aktif dalam Komunitas SemarangJS\n		 \n			 \n		 \nCurrently RegisteredAgung Prabowo Shodiqul Muzaki Kang Sandy Kang Artha  \n 
URL:https://programmer-semarang.com/event/20th-meetup-reactjs-basic/
LOCATION:SDK (Semarang Digital Kreatif)\, Jalan Mpu Tantular No. 2\, Bandarharjo\, Semarang Utara\, Semarang\, Jawa Tengah\, 50175\, Indonesia
ATTACH;FMTTYPE=image/png:https://programmer-semarang.com/wp-content/uploads/2018/04/20161215114909logo-p.png
END:VEVENT
BEGIN:VEVENT
DTSTART;TZID=UTC:20180324T160000
DTEND;TZID=UTC:20180324T200000
DTSTAMP:20260421T213716
CREATED:20180424T184152Z
LAST-MODIFIED:20180426T225839Z
UID:238-1521907200-1521921600@programmer-semarang.com
SUMMARY:19th Meetup  : The Power Of Wordpress
DESCRIPTION:WordPress adalah sebuah software yang bisa kamu gunakan untuk membuat website\, baik web pribadi\, situs portal berita\, toko online\, bahkan wordpress juga bisa mengoptimalkan search engine optimization(SEO) agar web yang kamu buat bisa ter-index di google. \nNah kali ini Komunitas Programmer Semarang akan berkolaborasi dengan komunitas WordPress Semarang akan berbagi tentang bagaimana cara menggunakan wordpress\, bisa digunakan untuk apa saja dan mengapa harus menggunakan wordpress
URL:https://programmer-semarang.com/event/meetup-19-the-power-of-wordpress/
LOCATION:SDK (Semarang Digital Kreatif)\, Jalan Mpu Tantular No. 2\, Bandarharjo\, Semarang Utara\, Semarang\, Jawa Tengah\, 50175\, Indonesia
ATTACH;FMTTYPE=image/jpeg:https://programmer-semarang.com/wp-content/uploads/2018/04/29064211_1870429616309249_2336841538809113518_o.jpg
END:VEVENT
END:VCALENDAR